BEGIN:VCALENDAR
VERSION:2.0
PRODID:-//NGSG of AA - ECPv6.8.3//NONSGML v1.0//EN
CALSCALE:GREGORIAN
METHOD:PUBLISH
X-ORIGINAL-URL:https://aanassaugs-ny.org
X-WR-CALDESC:Events for NGSG of AA
REFRESH-INTERVAL;VALUE=DURATION:PT1H
X-Robots-Tag:noindex
X-PUBLISHED-TTL:PT1H
BEGIN:VTIMEZONE
TZID:America/New_York
BEGIN:DAYLIGHT
TZOFFSETFROM:-0500
TZOFFSETTO:-0400
TZNAME:EDT
DTSTART:20260308T070000
END:DAYLIGHT
BEGIN:STANDARD
TZOFFSETFROM:-0400
TZOFFSETTO:-0500
TZNAME:EST
DTSTART:20261101T060000
END:STANDARD
END:VTIMEZONE
BEGIN:VEVENT
DTSTART;TZID=America/New_York:20260316T193000
DTEND;TZID=America/New_York:20260316T210000
DTSTAMP:20260424T093420
CREATED:20251215T230908Z
LAST-MODIFIED:20251215T230908Z
UID:2463-1773689400-1773694800@aanassaugs-ny.org
SUMMARY:Nassau General Service Group Meeting
DESCRIPTION:There is a new GSR orientation from 7:00-7:30pm and the meeting is from 7:30-9:00pm. It is hybrid \n361 Hempstead Tpke\nWest Hempstead\, NY 11552 \nZoom id# 922 8787 8377\nPC- 12345
URL:https://aanassaugs-ny.org/event/nassau-general-service-group-meeting-17/
LOCATION:Nassau Intergroup of AA Inc.\, 361 Hempstead Turnpike\, West Hempstead\, NY\, 11552\, United States
END:VEVENT
BEGIN:VEVENT
DTSTART;TZID=America/New_York:20260518T193000
DTEND;TZID=America/New_York:20260518T210000
DTSTAMP:20260424T093420
CREATED:20260423T172032Z
LAST-MODIFIED:20260423T172032Z
UID:2497-1779132600-1779138000@aanassaugs-ny.org
SUMMARY:Nassau General Services Meeting
DESCRIPTION:There is a new GSR orientation from 7:00-7:30pm and the meeting is from 7:30-9:00pm. It is hybrid \n361 Hempstead Tpke\nWest Hempstead\, NY 11552 \nZoom id# 922 8787 8377\nPC- 12345
URL:https://aanassaugs-ny.org/event/nassau-general-services-meeting/
LOCATION:Nassau Intergroup of AA Inc.\, 361 Hempstead Turnpike\, West Hempstead\, NY\, 11552\, United States
END:VEVENT
BEGIN:VEVENT
DTSTART;TZID=America/New_York:20260615T193000
DTEND;TZID=America/New_York:20260615T210000
DTSTAMP:20260424T093420
CREATED:20260423T172132Z
LAST-MODIFIED:20260423T172132Z
UID:2499-1781551800-1781557200@aanassaugs-ny.org
SUMMARY:Nassau General Services Meeting
DESCRIPTION:There is a new GSR orientation from 7:00-7:30pm and the meeting is from 7:30-9:00pm. It is hybrid \n361 Hempstead Tpke\nWest Hempstead\, NY 11552 \nZoom id# 922 8787 8377\nPC- 12345
URL:https://aanassaugs-ny.org/event/nassau-general-services-meeting-2/
LOCATION:Nassau Intergroup of AA Inc.\, 361 Hempstead Turnpike\, West Hempstead\, NY\, 11552\, United States
END:VEVENT
BEGIN:VEVENT
DTSTART;TZID=America/New_York:20260720T193000
DTEND;TZID=America/New_York:20260720T210000
DTSTAMP:20260424T093420
CREATED:20260423T172227Z
LAST-MODIFIED:20260423T172227Z
UID:2501-1784575800-1784581200@aanassaugs-ny.org
SUMMARY:Nassau General Services Meeting
DESCRIPTION:There is a new GSR orientation from 7:00-7:30pm and the meeting is from 7:30-9:00pm. It is hybrid \n361 Hempstead Tpke\nWest Hempstead\, NY 11552 \nZoom id# 922 8787 8377\nPC- 12345
URL:https://aanassaugs-ny.org/event/nassau-general-services-meeting-3/
LOCATION:Nassau Intergroup of AA Inc.\, 361 Hempstead Turnpike\, West Hempstead\, NY\, 11552\, United States
END:VEVENT
BEGIN:VEVENT
DTSTART;TZID=America/New_York:20260817T193000
DTEND;TZID=America/New_York:20260817T210000
DTSTAMP:20260424T093420
CREATED:20260423T172325Z
LAST-MODIFIED:20260423T172325Z
UID:2503-1786995000-1787000400@aanassaugs-ny.org
SUMMARY:Nassau General Services Meeting
DESCRIPTION:There is a new GSR orientation from 7:00-7:30pm and the meeting is from 7:30-9:00pm. It is hybrid \n361 Hempstead Tpke\nWest Hempstead\, NY 11552 \nZoom id# 922 8787 8377\nPC- 12345
URL:https://aanassaugs-ny.org/event/nassau-general-services-meeting-4/
LOCATION:Nassau Intergroup of AA Inc.\, 361 Hempstead Turnpike\, West Hempstead\, NY\, 11552\, United States
END:VEVENT
END:VCALENDAR