BEGIN:VCALENDAR
VERSION:2.0
PRODID:-//NGSG of AA - ECPv6.8.3//NONSGML v1.0//EN
CALSCALE:GREGORIAN
METHOD:PUBLISH
X-ORIGINAL-URL:https://aanassaugs-ny.org
X-WR-CALDESC:Events for NGSG of AA
REFRESH-INTERVAL;VALUE=DURATION:PT1H
X-Robots-Tag:noindex
X-PUBLISHED-TTL:PT1H
BEGIN:VTIMEZONE
TZID:America/New_York
BEGIN:DAYLIGHT
TZOFFSETFROM:-0500
TZOFFSETTO:-0400
TZNAME:EDT
DTSTART:20200308T070000
END:DAYLIGHT
BEGIN:STANDARD
TZOFFSETFROM:-0400
TZOFFSETTO:-0500
TZNAME:EST
DTSTART:20201101T060000
END:STANDARD
END:VTIMEZONE
BEGIN:VEVENT
DTSTART;TZID=America/New_York:20201207T193000
DTEND;TZID=America/New_York:20201207T213000
DTSTAMP:20260421T180001
CREATED:20200817T131129Z
LAST-MODIFIED:20201113T013436Z
UID:1027-1607369400-1607376600@aanassaugs-ny.org
SUMMARY:SENY Committee Meeting- VIRTUAL
DESCRIPTION:Zoom ID: 823 3729 5073 Password: 329024 \ncheck here for latest information:  http://events.aaseny.org/event/seny-committee-meeting-5
URL:https://aanassaugs-ny.org/event/seny-committee-meeting-virtual-3/
LOCATION:Virtual Meeting
CATEGORIES:AASENY Area 49,SENY
END:VEVENT
END:VCALENDAR