BEGIN:VCALENDAR
VERSION:2.0
PRODID:-//NGSG of AA - ECPv6.8.3//NONSGML v1.0//EN
CALSCALE:GREGORIAN
METHOD:PUBLISH
X-ORIGINAL-URL:https://aanassaugs-ny.org
X-WR-CALDESC:Events for NGSG of AA
REFRESH-INTERVAL;VALUE=DURATION:PT1H
X-Robots-Tag:noindex
X-PUBLISHED-TTL:PT1H
BEGIN:VTIMEZONE
TZID:America/New_York
BEGIN:DAYLIGHT
TZOFFSETFROM:-0500
TZOFFSETTO:-0400
TZNAME:EDT
DTSTART:20200308T070000
END:DAYLIGHT
BEGIN:STANDARD
TZOFFSETFROM:-0400
TZOFFSETTO:-0500
TZNAME:EST
DTSTART:20201101T060000
END:STANDARD
END:VTIMEZONE
BEGIN:VEVENT
DTSTART;TZID=America/New_York:20201010T100000
DTEND;TZID=America/New_York:20201010T130000
DTSTAMP:20260421T161601
CREATED:20200817T130011Z
LAST-MODIFIED:20200817T130011Z
UID:1019-1602324000-1602334800@aanassaugs-ny.org
SUMMARY:SENY Archives Workshop 
DESCRIPTION:The workshop will discuss the local experience of coping with the COVID-19 pandemic this year. \nZoom ID: 878 5609 4835; PASSCODE: 18525
URL:https://aanassaugs-ny.org/event/seny-archives-workshop/
LOCATION:Virtual Meeting
CATEGORIES:SENY
END:VEVENT
END:VCALENDAR