BEGIN:VCALENDAR
VERSION:2.0
PRODID:-//NGSG of AA - ECPv6.8.3//NONSGML v1.0//EN
CALSCALE:GREGORIAN
METHOD:PUBLISH
X-WR-CALNAME:NGSG of AA
X-ORIGINAL-URL:https://aanassaugs-ny.org
X-WR-CALDESC:Events for NGSG of AA
REFRESH-INTERVAL;VALUE=DURATION:PT1H
X-Robots-Tag:noindex
X-PUBLISHED-TTL:PT1H
BEGIN:VTIMEZONE
TZID:America/New_York
BEGIN:DAYLIGHT
TZOFFSETFROM:-0500
TZOFFSETTO:-0400
TZNAME:EDT
DTSTART:20200308T070000
END:DAYLIGHT
BEGIN:STANDARD
TZOFFSETFROM:-0400
TZOFFSETTO:-0500
TZNAME:EST
DTSTART:20201101T060000
END:STANDARD
END:VTIMEZONE
BEGIN:VEVENT
DTSTART;TZID=America/New_York:20200209T080000
DTEND;TZID=America/New_York:20200209T153000
DTSTAMP:20260425T095925
CREATED:20190826T233924Z
LAST-MODIFIED:20200120T214130Z
UID:732-1581235200-1581262200@aanassaugs-ny.org
SUMMARY:SENY Area 49 Assembly Meeting
DESCRIPTION:Directions to the SENY Assembly taking place at Nassau Community College \nArea 49 is South Eastern New York’s connection to AA’s general service structure.\nIt’s How Local Groups Participate In The Decision-Making For AA As A Whole\, And Help Carry AA’s Message In Ways That Would Not Otherwise Be Possible.
URL:https://aanassaugs-ny.org/event/seny-assembly-meeting-2/
LOCATION:Nassau Community College- College Center Building (CCB) and Annex (G Building)\, 1 Education Drive\, Garden City\, 11530\, United States
CATEGORIES:NCGS
ORGANIZER;CN="Nassau County General Services":MAILTO:dcmc@nassau.aaseny.org
END:VEVENT
END:VCALENDAR