BEGIN:VCALENDAR
VERSION:2.0
PRODID:-//NGSG of AA - ECPv6.8.3//NONSGML v1.0//EN
CALSCALE:GREGORIAN
METHOD:PUBLISH
X-ORIGINAL-URL:https://aanassaugs-ny.org
X-WR-CALDESC:Events for NGSG of AA
REFRESH-INTERVAL;VALUE=DURATION:PT1H
X-Robots-Tag:noindex
X-PUBLISHED-TTL:PT1H
BEGIN:VTIMEZONE
TZID:America/New_York
BEGIN:DAYLIGHT
TZOFFSETFROM:-0500
TZOFFSETTO:-0400
TZNAME:EDT
DTSTART:20150308T070000
END:DAYLIGHT
BEGIN:STANDARD
TZOFFSETFROM:-0400
TZOFFSETTO:-0500
TZNAME:EST
DTSTART:20151101T060000
END:STANDARD
BEGIN:DAYLIGHT
TZOFFSETFROM:-0500
TZOFFSETTO:-0400
TZNAME:EDT
DTSTART:20160313T070000
END:DAYLIGHT
BEGIN:STANDARD
TZOFFSETFROM:-0400
TZOFFSETTO:-0500
TZNAME:EST
DTSTART:20161106T060000
END:STANDARD
BEGIN:DAYLIGHT
TZOFFSETFROM:-0500
TZOFFSETTO:-0400
TZNAME:EDT
DTSTART:20170312T070000
END:DAYLIGHT
BEGIN:STANDARD
TZOFFSETFROM:-0400
TZOFFSETTO:-0500
TZNAME:EST
DTSTART:20171105T060000
END:STANDARD
END:VTIMEZONE
BEGIN:VEVENT
DTSTART;TZID=America/New_York:20170324T150000
DTEND;TZID=America/New_York:20170326T120000
DTSTAMP:20260422T113419
CREATED:20161212T151402Z
LAST-MODIFIED:20170205T141230Z
UID:357-1490367600-1490529600@aanassaugs-ny.org
SUMMARY:SENY Area 49 Convention
DESCRIPTION:
URL:https://aanassaugs-ny.org/event/seny-area-49-convention-2/
LOCATION:Renaissance Westchester Hotel\, 80 W Red Oak Lane\, West Harrison \, NY\, 10604\, United States
CATEGORIES:AASENY Area 49
ATTACH;FMTTYPE=image/jpeg:https://aanassaugs-ny.org/wp-content/uploads/SENYConvention.jpg
ORGANIZER;CN="SENY Area 49 Convention":MAILTO:Convention@aaseny.org
END:VEVENT
BEGIN:VEVENT
DTSTART;TZID=America/New_York:20170304T090000
DTEND;TZID=America/New_York:20170304T153000
DTSTAMP:20260422T113419
CREATED:20170205T141159Z
LAST-MODIFIED:20170205T141335Z
UID:373-1488618000-1488641400@aanassaugs-ny.org
SUMMARY:Delegate's Day of Sharing-  SENY Area 49
DESCRIPTION:
URL:https://aanassaugs-ny.org/event/delegates-day-of-sharing-seny-area-49/
LOCATION:St.Patrick’s School\, 9511 Fourth Avenue\, Brooklyn\, NY\, 11209\, United States
CATEGORIES:AASENY Area 49
ORGANIZER;CN="SENY Area 49":MAILTO:delegate@aaseny.org
END:VEVENT
BEGIN:VEVENT
DTSTART;TZID=America/New_York:20170211T083000
DTEND;TZID=America/New_York:20170211T153000
DTSTAMP:20260422T113419
CREATED:20161212T150351Z
LAST-MODIFIED:20170205T141356Z
UID:343-1486801800-1486827000@aanassaugs-ny.org
SUMMARY:SENY Area 49 Assembly
DESCRIPTION:
URL:https://aanassaugs-ny.org/event/seny-area-49-assembly-3/
LOCATION:Kellenberg Memorial HS\, 1400 Glenn Curtis Blvd.\, Uniondale \, 11563\, United States
CATEGORIES:AASENY Area 49
END:VEVENT
BEGIN:VEVENT
DTSTART;TZID=America/New_York:20160206T083000
DTEND;TZID=America/New_York:20160206T153000
DTSTAMP:20260422T113419
CREATED:20151214T142748Z
LAST-MODIFIED:20151214T151050Z
UID:186-1454747400-1454772600@aanassaugs-ny.org
SUMMARY:SENY Area 49 Assembly
DESCRIPTION:
URL:https://aanassaugs-ny.org/event/seny-area-49-assembly/
LOCATION:Our Savior Lutheran School\, 1734 Williamsbridge Road\, Bronx\, 10461\, United States
CATEGORIES:AASENY Area 49
ORGANIZER;CN="Area 49 Committee":MAILTO:email-chair@aaseny.org
END:VEVENT
BEGIN:VEVENT
DTSTART;TZID=America/New_York:20151107T091500
DTEND;TZID=America/New_York:20151107T151500
DTSTAMP:20260422T113419
CREATED:20151019T170231Z
LAST-MODIFIED:20151019T170231Z
UID:86-1446887700-1446909300@aanassaugs-ny.org
SUMMARY:SENY Area 49 Assembly
DESCRIPTION:Area Inventory
URL:https://aanassaugs-ny.org/event/seny-area-49-assembly-2/
LOCATION:Saunders High School\, 183 Palmer Road\, Yonkers\, 10701\, United States
CATEGORIES:AASENY Area 49
ORGANIZER;CN="Area 49 Committee":MAILTO:email-chair@aaseny.org
END:VEVENT
BEGIN:VEVENT
DTSTART;TZID=America/New_York:20151102T193000
DTEND;TZID=America/New_York:20151102T213000
DTSTAMP:20260422T113419
CREATED:20151019T151441Z
LAST-MODIFIED:20151019T164946Z
UID:75-1446492600-1446499800@aanassaugs-ny.org
SUMMARY:SENY Area 49 Committee Meeting
DESCRIPTION:SENY Area 49 Committee Meeting
URL:https://aanassaugs-ny.org/event/seny-area-49-committee-meeting/
LOCATION:Church Of The Holy Family (Mechler Hall)\, 2158 Watson Avenue\, Bronx\, NY\, 10472\, United States
CATEGORIES:AASENY Area 49
ORGANIZER;CN="Area 49 Committee":MAILTO:email-chair@aaseny.org
END:VEVENT
END:VCALENDAR