BEGIN:VCALENDAR
VERSION:2.0
PRODID:-//NGSG of AA - ECPv6.8.3//NONSGML v1.0//EN
CALSCALE:GREGORIAN
METHOD:PUBLISH
X-ORIGINAL-URL:https://aanassaugs-ny.org
X-WR-CALDESC:Events for NGSG of AA
REFRESH-INTERVAL;VALUE=DURATION:PT1H
X-Robots-Tag:noindex
X-PUBLISHED-TTL:PT1H
BEGIN:VTIMEZONE
TZID:America/New_York
BEGIN:DAYLIGHT
TZOFFSETFROM:-0500
TZOFFSETTO:-0400
TZNAME:EDT
DTSTART:20250309T070000
END:DAYLIGHT
BEGIN:STANDARD
TZOFFSETFROM:-0400
TZOFFSETTO:-0500
TZNAME:EST
DTSTART:20251102T060000
END:STANDARD
END:VTIMEZONE
BEGIN:VEVENT
DTSTART;TZID=America/New_York:20250226T193000
DTEND;TZID=America/New_York:20250226T210000
DTSTAMP:20260425T125721
CREATED:20250226T150952Z
LAST-MODIFIED:20250226T150952Z
UID:2324-1740598200-1740603600@aanassaugs-ny.org
SUMMARY:The Road to the 75th General Service Conference  Hybrid Workshop
DESCRIPTION:THE ROAD TO THE 75TH GENERAL SERVICE CONFERENCE \nHYBRID WORKSHOP \nWEDNESDAY\, FEBRUARY 26TH\, 2025 at the Central Office and via Zoom below: \n7:30PM TO 9PM\nVIRTUAL ID: 472 169 5465\nPASSWORD: 123456
URL:https://aanassaugs-ny.org/event/the-road-to-the-75th-general-service-conference-hybrid-workshop/
LOCATION:Nassau Intergroup of AA Inc.\, 361 Hempstead Turnpike\, West Hempstead\, NY\, 11552\, United States
END:VEVENT
END:VCALENDAR